BEGIN:VCALENDAR
VERSION:2.0
PRODID:-//Eventin//Event Calendar//EN
CALSCALE:GREGORIAN
METHOD:PUBLISH
BEGIN:VEVENT
UID:8263f68de96e32db65a8dfed922d5f2f@www.ciscostarica.com
SUMMARY:Diplomado Técnico en Riesgos y Seguros
DESCRIPTION:Otorgado por la Escuela Internacional de Seguros y Finanzas\, e
 ste Diplomado está dirigido a quienes comienzan en la industria o desean i
 ngresar\, este diplomado brinda conocimientos esenciales y herramientas pr
 ácticas para comprender el mercado de seguros y su funcionamiento. Prepár
 ese para una carrera llena de oportunidades.\n\nDuración 3 meses\n44 horas
  de clases en 8 módulos\n100% en línea con clases en directo\n2 clases po
 r semana de 8 a 10 a.m.\nProfesores internacionales\nMentorías Personaliza
 das
LOCATION:Online
DTSTAMP:20260423T122144Z
DTSTART:20260308T140000Z
DTEND:20260603T160000Z
END:VEVENT
END:VCALENDAR
